Workbook

Sheet 发放名单31人
A1: 2026年8月经济困难失能老年人集中照护服务补助金发放表
A2: 序号 | B2: 乡镇 | C2: 姓名 | D2: 年龄 | E2: 入住机构 | F2: 入住时间 | G2: 评估等级 | H2: 自理能力评估 | I2: 低保类型 | J2: 补助标准 | K2: 低保标准 | L2: 困难残疾人生活补贴 | M2: 重度残疾人护理补贴 | N2: 养老服务补贴 | O2: 护理补贴 | P2: 补贴金额 | Q2: 总扣减金额 | R2: 本月扣减金额 | S2: 发放金额 | T2: 补助时间 | U2: 备注
A3: 1 | B3: 寨沙镇 | C3: 覃石庆 | D3: 68 | E3: 鹿寨县久元养老公寓 | F3: 45492 | G3: 完全失能 | H3: 全护理 | I3: =VLOOKUP(C3,[1]发放名单31人!$C$3:$U$33,19,0) -> 农村低保 | J3: 2132 | K3: 500 | L3: 92 | M3: 97 | N3: 0 | O3: 0 | P3: =J3-K3-L3-M3-N3-O3 -> 1443 | Q3: 1060 | R3: 707 | S3: =P3-R3 -> 736 | T3: 2026.8.20-9.13（离院） | U3: 根据柳州市民政局最新明确集中照护服务补贴需按照最低生活保障标准进行扣减，2026年2-5月发放的补贴在8-10月拨付的补助金分3个月进行扣减，9月13日离院需将未扣的707元全部扣除
A4: 2 | B4: 寨沙镇 | C4: 陆仁华 | D4: 75 | E4: 鹿寨县久元养老公寓 | F4: 45621 | G4: 重度失能 | H4: 全护理 | I4: =VLOOKUP(C4,[1]发放名单31人!$C$3:$U$33,19,0) -> 农村低保 | J4: 2132 | K4: 500 | L4: 92 | M4: 0 | N4: 50 | O4: 200 | P4: =J4-K4-L4-M4-N4-O4 -> 1290 | Q4: 740 | R4: 247 | S4: =P4-R4 -> 1043 | T4: 2026.7.25-8.24 | U4: 根据柳州市民政局最新明确集中照护服务补贴需按照最低生活保障标准进行扣减，2026年2-5月发放的补贴在8-10月拨付的补助金分3个月进行扣减
A5: 3 | B5: 寨沙镇 | C5: 韦日安 | D5: 69 | E5: 鹿寨县久元养老公寓 | F5: 45626 | G5: 完全失能 | H5: 全护理 | I5: =VLOOKUP(C5,[1]发放名单31人!$C$3:$U$33,19,0) -> 农村低保 | J5: 2132 | K5: 500 | L5: 92 | M5: 97 | N5: 0 | O5: 0 | P5: =J5-K5-L5-M5-N5-O5 -> 1443 | Q5: 1300 | R5: 433.5 | S5: =P5-R5 -> 1009.5 | T5: 2026.8.1-8.31 | U5: 根据柳州市民政局最新明确集中照护服务补贴需按照最低生活保障标准进行扣减，2026年2-5月发放的补贴在8-10月拨付的补助金分3个月进行扣减
A6: 4 | B6: 寨沙镇 | C6: 廖水麟 | D6: 75 | E6: 鹿寨县久元养老公寓 | F6: 45766 | G6: 完全失能 | H6: 全护理 | I6: =VLOOKUP(C6,[1]发放名单31人!$C$3:$U$33,19,0) -> 农村低保 | J6: 2132 | K6: 500 | L6: 92 | M6: 0 | N6: 50 | O6: 0 | P6: =(J6-K6-L6-M6-N6-O6)/2 -> 745 | Q6: 384 | R6: 256 | S6: =P6-R6 -> 489 | T6: 2026.8.19-8.28(离院） | U6: 根据柳州市民政局最新明确集中照护服务补贴需按照最低生活保障标准进行扣减，2026年2-5月发放的补贴在8-10月拨付的补助金分3个月进行扣减，8月28离院需将未扣的256元全部扣除
A7: 5 | B7: 寨沙镇 | C7: 何小弟 | D7: 84 | E7: 鹿寨县久元养老公寓 | F7: 45748 | G7: 完全失能 | H7: 全护理 | I7: =VLOOKUP(C7,[1]发放名单31人!$C$3:$U$33,19,0) -> 农村低保 | J7: 2132 | K7: 500 | L7: 0 | M7: 0 | N7: 50 | O7: 200 | P7: =J7-K7-L7-M7-N7-O7 -> 1382 | Q7: 740 | R7: 247 | S7: =P7-R7 -> 1135 | T7: 2026.8.1-8.31 | U7: 根据柳州市民政局最新明确集中照护服务补贴需按照最低生活保障标准进行扣减，2026年2-5月发放的补贴在8-10月拨付的补助金分3个月进行扣减
A8: 6 | B8: 黄冕镇 | C8: 潘太胜 | D8: 69 | E8: 鹿寨县久元养老公寓 | F8: 45770 | G8: 完全失能 | H8: 全护理 | I8: =VLOOKUP(C8,[1]发放名单31人!$C$3:$U$33,19,0) -> 农村低保 | J8: 2132 | K8: 500 | L8: 92 | M8: 97 | N8: 0 | O8: 0 | P8: =J8-K8-L8-M8-N8-O8 -> 1443 | Q8: 580 | R8: 193.5 | S8: =P8-R8 -> 1249.5 | T8: 2026.8.23-9.22 | U8: 根据柳州市民政局最新明确集中照护服务补贴需按照最低生活保障标准进行扣减，2026年2-5月发放的补贴在8-10月拨付的补助金分3个月进行扣减
A9: 7 | B9: 寨沙镇 | C9: 代景昌 | D9: 66 | E9: 鹿寨县久元养老公寓 | F9: 45799 | G9: 轻度失能 | H9: 全护理 | I9: =VLOOKUP(C9,[1]发放名单31人!$C$3:$U$33,19,0) -> 农村低保 | J9: 2132 | K9: 500 | L9: 0 | M9: 0 | N9: 0 | O9: 0 | P9: =(J9-K9-L9-M9-N9-O9)/2 -> 816 | Q9: 900 | R9: 600 | S9: =P9-R9 -> 216 | T9: 2026.8.22-8.31（评估为轻度失能后不符合补助，补贴发放到8月） | U9: 根据柳州市民政局最新明确集中照护服务补贴需按照最低生活保障标准进行扣减，2026年2-5月发放的补贴在8-10月拨付的补助金分3个月进行扣减，8月31离院需将未扣的600元全部扣除
A10: 8 | B10: 金秀 | C10: 杨仁作 | D10: 62 | E10: 鹿寨县久元养老公寓 | F10: 46054 | G10: 重度失能 | H10: 全护理 | I10: =VLOOKUP(C10,[1]发放名单31人!$C$3:$U$33,19,0) -> 农村低保 | J10: 2132 | K10: 500 | L10: 92 | M10: 97 | N10: 0 | O10: 0 | P10: =J10-K10-L10-M10-N10-O10 -> 1443 | Q10: 600 | R10: 200 | S10: =P10-R10 -> 1243 | T10: 2026.8.1-8.31 | U10: 根据柳州市民政局最新明确集中照护服务补贴需按照最低生活保障标准进行扣减，2026年2-5月发放的补贴在8-10月拨付的补助金分3个月进行扣减
A11: 9 | B11: 四排镇 | C11: 文桂连 | D11: 98 | E11: 鹿寨县久元养老公寓 | F11: 46092 | G11: 中度失能 | H11: 全自理 | I11: =VLOOKUP(C11,[1]发放名单31人!$C$3:$U$33,19,0) -> 农村低保 | J11: 1010 | K11: 500 | L11: 0 | M11: 0 | N11: 50 | O11: 0 | P11: =J11-K11-L11-M11-N11-O11 -> 460 | Q11: 288 | R11: 96 | S11: =P11-R11 -> 364 | T11: 2026.8.11-9.10 | U11: 根据柳州市民政局最新明确集中照护服务补贴需按照最低生活保障标准进行扣减，2026年2-5月发放的补贴在8-10月拨付的补助金分3个月进行扣减
A12: 10 | B12: 中渡镇 | C12: 潘庆高 | D12: 62 | E12: 鹿寨县久元养老公寓 | F12: 46113 | G12: 重度失能 | H12: 全护理 | I12: =VLOOKUP(C12,[1]发放名单31人!$C$3:$U$33,19,0) -> 农村低保 | J12: 2132 | K12: 500 | L12: 92 | M12: 97 | N12: 0 | O12: 0 | P12: =J12-K12-L12-M12-N12-O12 -> 1443 | Q12: 0 | R12: 0 | S12: =P12-R12 -> 1443 | T12: 2026.8.1-8.31
A13: 11 | B13: 鹿寨镇 | C13: 潘华标 | D13: 69 | E13: 鹿寨县久元养老公寓 | F13: 46204 | G13: 重度失能 | H13: 全护理 | I13: 农村低保 | J13: 2132 | K13: 500 | L13: 0 | M13: 0 | N13: 0 | O13: 0 | P13: =J13-K13-L13-M13-N13-O13 -> 1632 | Q13: 0 | R13: 0 | S13: =P13-R13 -> 1632 | T13: 2026.8.1-8.31
A14: 12 | B14: 江口乡 | C14: 张胜军 | D14: 69 | E14: 鹿寨县久元养老公寓 | F14: 46236 | G14: 重度失能 | H14: 全护理 | I14: 城市低保 | J14: 2132 | K14: 770 | L14: 92 | M14: 97 | N14: 0 | O14: 0 | P14: =J14-K14-L14-M14-N14-O14 -> 1173 | Q14: 0 | R14: 0 | S14: =P14-R14 -> 1173 | T14: 2026.8.2-9.1
A15: 13 | B15: 中渡镇 | C15: 陈远发 | D15: 63 | E15: 中渡瑞康养老中心 | F15: 45474 | G15: 完全失能 | H15: 全护理 | I15: =VLOOKUP(C15,[1]发放名单31人!$C$3:$U$33,19,0) -> 城市低保 | J15: 2132 | K15: 770 | L15: 92 | M15: 97 | N15: 0 | O15: 0 | P15: =J15-K15-L15-M15-N15-O15 -> 1173 | Q15: 360 | R15: 120 | S15: =P15-R15 -> 1053 | T15: 2026.8.1-8.31 | U15: 根据柳州市民政局最新明确集中照护服务补贴需按照最低生活保障标准进行扣减，2026年2-5月发放的补贴在8-10月拨付的补助金分3个月进行扣减
A16: 14 | B16: 四排镇 | C16: 陈文金 | D16: 79 | E16: 鹿寨县瑞康养老中心 | F16: 45491 | G16: 中度失能 | H16: 全护理 | I16: =VLOOKUP(C16,[1]发放名单31人!$C$3:$U$33,19,0) -> 农村低保 | J16: 2132 | K16: 500 | L16: 92 | M16: 0 | N16: 50 | O16: 0 | P16: =J16-K16-L16-M16-N16-O16 -> 1490 | Q16: 0 | R16: 0 | S16: =P16-R16 -> 1490 | T16: 2026.8.18-9.17
A17: 15 | B17: 黄冕镇 | C17: 李凤英 | D17: 92 | E17: 中渡瑞康养老中心 | F17: 45658 | G17: 重度失能 | H17: 全护理 | I17: =VLOOKUP(C17,[1]发放名单31人!$C$3:$U$33,19,0) -> 城市低保 | J17: 2132 | K17: 770 | L17: 0 | M17: 0 | N17: 50 | O17: 200 | P17: =J17-K17-L17-M17-N17-O17 -> 1112 | Q17: 1080 | R17: 360 | S17: =P17-R17 -> 752 | T17: 2026.8.1-8.31 | U17: 根据柳州市民政局最新明确集中照护服务补贴需按照最低生活保障标准进行扣减，2026年2-5月发放的补贴在8-10月拨付的补助金分3个月进行扣减
A18: 16 | B18: 中渡镇 | C18: 秦玉琼 | D18: 78 | E18: 中渡瑞康养老中心 | F18: 45699 | G18: 重度失能 | H18: 全护理 | I18: =VLOOKUP(C18,[1]发放名单31人!$C$3:$U$33,19,0) -> 农村低保 | J18: 2132 | K18: 500 | L18: 0 | M18: 0 | N18: 50 | O18: 200 | P18: =J18-K18-L18-M18-N18-O18 -> 1382 | Q18: 384 | R18: 128 | S18: =P18-R18 -> 1254 | T18: 2026.8.11-9.10 | U18: 根据柳州市民政局最新明确集中照护服务补贴需按照最低生活保障标准进行扣减，2026年2-5月发放的补贴在8-10月拨付的补助金分3个月进行扣减
A19: 17 | B19: 江口乡 | C19: 张桂英 | D19: 88 | E19: 导江瑞康养老中心 | F19: 45786 | G19: 中度失能 | H19: 半护理 | I19: =VLOOKUP(C19,[1]发放名单31人!$C$3:$U$33,19,0) -> 城市低保 | J19: 1571 | K19: 770 | L19: 92 | M19: 0 | N19: 50 | O19: 0 | P19: =J19-K19-L19-M19-N19-O19 -> 659 | Q19: 360 | R19: 120 | S19: =P19-R19 -> 539 | T19: 2026.8.9-9.8 | U19: 根据柳州市民政局最新明确集中照护服务补贴需按照最低生活保障标准进行扣减，2026年2-5月发放的补贴在8-10月拨付的补助金分3个月进行扣减
A20: 18 | B20: 鹿寨镇 | C20: 韦兰花 | D20: 77 | E20: 鹿寨县瑞康养老中心 | F20: 45786 | G20: 中度失能 | H20: 半护理 | I20: =VLOOKUP(C20,[1]发放名单31人!$C$3:$U$33,19,0) -> 农村低保 | J20: 1571 | K20: 500 | L20: 92 | M20: 0 | N20: 50 | O20: 0 | P20: =J20-K20-L20-M20-N20-O20 -> 929 | Q20: 384 | R20: 128 | S20: =P20-R20 -> 801 | T20: 2026.8.9-9.8 | U20: 根据柳州市民政局最新明确集中照护服务补贴需按照最低生活保障标准进行扣减，2026年2-5月发放的补贴在8-10月拨付的补助金分3个月进行扣减
A21: 19 | B21: 鹿寨镇 | C21: 黄家祥 | D21: 69 | E21: 中渡瑞康养老中心 | F21: 45786 | G21: 中度失能 | H21: 全护理 | I21: =VLOOKUP(C21,[1]发放名单31人!$C$3:$U$33,19,0) -> 城市低保 | J21: 2132 | K21: 770 | L21: 92 | M21: 97 | N21: 0 | O21: 0 | P21: =J21-K21-L21-M21-N21-O21 -> 1173 | Q21: 360 | R21: 120 | S21: =P21-R21 -> 1053 | T21: 2026.8.9-9.8 | U21: 根据柳州市民政局最新明确集中照护服务补贴需按照最低生活保障标准进行扣减，2026年2-5月发放的补贴在8-10月拨付的补助金分3个月进行扣减
A22: 20 | B22: 鹿寨镇 | C22: 阳群珍 | D22: 65 | E22: 中渡瑞康养老中心 | F22: 45800 | G22: 完全失能 | H22: 全护理 | I22: =VLOOKUP(C22,[1]发放名单31人!$C$3:$U$33,19,0) -> 城市低保 | J22: 2132 | K22: 770 | L22: 92 | M22: 97 | N22: 0 | O22: 0 | P22: =J22-K22-L22-M22-N22-O22 -> 1173 | Q22: 608 | R22: 203 | S22: =P22-R22 -> 970 | T22: 2026.8.23-9.22 | U22: 根据柳州市民政局最新明确集中照护服务补贴需按照最低生活保障标准进行扣减，2026年2-5月发放的补贴在8-10月拨付的补助金分3个月进行扣减
A23: 21 | B23: 鹿寨镇 | C23: 廖德霄 | D23: 70 | E23: 中渡瑞康养老中心 | F23: 45824 | G23: 中度失能 | H23: 全护理 | I23: =VLOOKUP(C23,[1]发放名单31人!$C$3:$U$33,19,0) -> 城市低保 | J23: 2132 | K23: 770 | L23: 92 | M23: 97 | N23: 50 | O23: 0 | P23: =J23-K23-L23-M23-N23-O23 -> 1123 | Q23: 608 | R23: 203 | S23: =P23-R23 -> 920 | T23: 2026.8.16-9.15 | U23: 根据柳州市民政局最新明确集中照护服务补贴需按照最低生活保障标准进行扣减，2026年2-5月发放的补贴在8-10月拨付的补助金分3个月进行扣减
A24: 22 | B24: 鹿寨镇 | C24: 韦双有 | D24: 68 | E24: 鹿寨县瑞康养老中心 | F24: 45817 | G24: 完全失能 | H24: 全护理 | I24: =VLOOKUP(C24,[1]发放名单31人!$C$3:$U$33,19,0) -> 农村低保 | J24: 2132 | K24: 500 | L24: 92 | M24: 97 | N24: 0 | O24: 0 | P24: =J24-K24-L24-M24-N24-O24 -> 1443 | Q24: 900 | R24: 300 | S24: =P24-R24 -> 1143 | T24: 2026.8.9-9.8 | U24: 根据柳州市民政局最新明确集中照护服务补贴需按照最低生活保障标准进行扣减，2026年2-5月发放的补贴在8-10月拨付的补助金分3个月进行扣减
A25: 23 | B25: 中渡镇 | C25: 韦苏云 | D25: 76 | E25: 鹿寨县瑞康养老中心 | F25: 45818 | G25: 完全失能 | H25: 全护理 | I25: =VLOOKUP(C25,[1]发放名单31人!$C$3:$U$33,19,0) -> 农村低保 | J25: 2132 | K25: 500 | L25: 92 | M25: 0 | N25: 50 | O25: 200 | P25: =J25-K25-L25-M25-N25-O25 -> 1290 | Q25: 1140 | R25: 380 | S25: =P25-R25 -> 910 | T25: 2026.8.9-9.8 | U25: 根据柳州市民政局最新明确集中照护服务补贴需按照最低生活保障标准进行扣减，2026年2-5月发放的补贴在8-10月拨付的补助金分3个月进行扣减
A26: 24 | B26: 拉沟乡 | C26: 戴绍龙 | D26: 70 | E26: 中渡瑞康养老中心 | F26: 45474 | G26: 完全失能 | H26: 全护理 | I26: =VLOOKUP(C26,[1]发放名单31人!$C$3:$U$33,19,0) -> 农村低保 | J26: 2132 | K26: 500 | L26: 0 | M26: 0 | N26: 50 | O26: 0 | P26: =J26-K26-L26-M26-N26-O26 -> 1582 | Q26: 344 | R26: 115 | S26: =P26-R26 -> 1467 | T26: 2026.8.1-8.31 | U26: 根据柳州市民政局最新明确集中照护服务补贴需按照最低生活保障标准进行扣减，2026年2-5月发放的补贴在8-10月拨付的补助金分3个月进行扣减
A27: 25 | B27: 四排镇 | C27: 覃志杰 | D27: 64 | E27: 鹿寨县瑞康养老中心 | F27: 46018 | G27: 完全失能 | H27: 全护理 | I27: =VLOOKUP(C27,[1]发放名单31人!$C$3:$U$33,19,0) -> 农村低保 | J27: 2132 | K27: 500 | L27: 92 | M27: 97 | N27: 0 | O27: 0 | P27: =J27-K27-L27-M27-N27-O27 -> 1443 | Q27: 384 | R27: 128 | S27: =P27-R27 -> 1315 | T27: 2026.8.27-9.26 | U27: 根据柳州市民政局最新明确集中照护服务补贴需按照最低生活保障标准进行扣减，2026年2-5月发放的补贴在8-10月拨付的补助金分3个月进行扣减
A28: 26 | B28: 鹿寨镇 | C28: 肖玉兰 | D28: 61 | E28: 鹿寨县瑞康养老中心 | F28: 46044 | G28: 重度失能 | H28: 全护理 | I28: =VLOOKUP(C28,[1]发放名单31人!$C$3:$U$33,19,0) -> 农村低保 | J28: 2132 | K28: 500 | L28: 92 | M28: 0 | N28: 0 | O28: 0 | P28: =J28-K28-L28-M28-N28-O28 -> 1540 | Q28: 725 | R28: 242 | S28: =P28-R28 -> 1298 | T28: 2026.8.22-9.21 | U28: 根据柳州市民政局最新明确集中照护服务补贴需按照最低生活保障标准进行扣减，2026年2-5月发放的补贴在8-10月拨付的补助金分3个月进行扣减
... A33: 31 | B33: 鹿寨镇 | C33: 梁五四 | D33: 83 | E33: 鹿寨县瑞康养老中心 | F33: 46133 | G33: 完全失能 | H33: 全护理 | I33: =VLOOKUP(C33,[1]发放名单31人!$C$3:$U$33,19,0) -> 城市低保 | J33: 2132 | K33: 770 | L33: 0 | M33: 0 | N33: 50 | O33: 200 | P33: =J33-K33-L33-M33-N33-O33 -> 1112 | Q33: 540 | R33: 360 | S33: =P33-R33 -> 752 | T33: 2026.8.21-9.18（出院） | U33: 根据柳州市民政局最新明确集中照护服务补贴需按照最低生活保障标准进行扣减，2026年4-5月发放的补贴在8-10月拨付的补助金分3个月进行扣减，9月18日出院，需将未扣的360元全部扣除

Sheet 停发名单
A1: 2026年6月经济困难失能老年人集中照护停发名单
A2: 序号 | B2: 姓名 | C2: 年龄 | D2: 入住机构 | E2: 入住时间 | F2: 退出时间
A3: 1 | B3: 叶佩玲 | C3: 83 | D3: 鹿寨县久元养老公寓 | E3: 46113 | F3: 46182
A5: 制表人： | D5: 审核人：

Sheet 补发0
A1: 2026年5月经济困难失能老年人集中照护服务补助金补发表
A2: 序号 | B2: 姓名 | C2: 身份证号 | D2: 年龄 | E2: 入住机构 | F2: 入住时间 | G2: 评估等级 | H2: 自理能力评估 | I2: 一卡通银行账号 | J2: 持卡人姓名 | K2: 补助标准 | L2: 低保金 | M2: 困难残疾人生活补贴 | N2: 重度残疾人护理补贴 | O2: 养老服务补贴 | P2: 护理补贴 | Q2: 补贴金额 | R2: 补助时间 | S2: 备注
